BEGIN:VCALENDAR
VERSION:2.0
PRODID:-//That&#039;s Entertainment Performing Arts - National Dance Competitions - ECPv6.15.13.1//NONSGML v1.0//EN
CALSCALE:GREGORIAN
METHOD:PUBLISH
X-ORIGINAL-URL:https://thatsentertainmentpa.com
X-WR-CALDESC:Events for That&#039;s Entertainment Performing Arts - National Dance Competitions
REFRESH-INTERVAL;VALUE=DURATION:PT1H
X-Robots-Tag:noindex
X-PUBLISHED-TTL:PT1H
BEGIN:VTIMEZONE
TZID:America/New_York
BEGIN:DAYLIGHT
TZOFFSETFROM:-0500
TZOFFSETTO:-0400
TZNAME:EDT
DTSTART:20260308T070000
END:DAYLIGHT
BEGIN:STANDARD
TZOFFSETFROM:-0400
TZOFFSETTO:-0500
TZNAME:EST
DTSTART:20261101T060000
END:STANDARD
BEGIN:DAYLIGHT
TZOFFSETFROM:-0500
TZOFFSETTO:-0400
TZNAME:EDT
DTSTART:20270314T070000
END:DAYLIGHT
BEGIN:STANDARD
TZOFFSETFROM:-0400
TZOFFSETTO:-0500
TZNAME:EST
DTSTART:20271107T060000
END:STANDARD
BEGIN:DAYLIGHT
TZOFFSETFROM:-0500
TZOFFSETTO:-0400
TZNAME:EDT
DTSTART:20280312T070000
END:DAYLIGHT
BEGIN:STANDARD
TZOFFSETFROM:-0400
TZOFFSETTO:-0500
TZNAME:EST
DTSTART:20281105T060000
END:STANDARD
END:VTIMEZONE
BEGIN:VEVENT
DTSTART;TZID=America/New_York:20270313T000000
DTEND;TZID=America/New_York:20270314T235959
DTSTAMP:20260421T015526
CREATED:20260213T091608Z
LAST-MODIFIED:20260408T161835Z
UID:8685-1804896000-1805068799@thatsentertainmentpa.com
SUMMARY:Lancaster\, PA
DESCRIPTION:VENUE/HOTEL\n\n\n\n\n\nRoom Rates: TBA \n\n\n\nOnline Reservation Link: TBA \n\n\n\nCut-Off Date: TBA \n\n\n\nCancellation Policy: All no shows & individual room cancellations received within 4 days prior to the date of check-in\, will be billed at contracted room rate for 1 night \n\n\n\nAttendees not staying at the Resort are prohibited to use complimentary amenities & facilities such as pool or gym. \n\n\n\nIt is the Hotel/Resorts policy that NO outside food or alcoholic beverages are allowed to be brought into the hotel’s public space or meeting rooms by guests of the Hotel/Resort or attendees of any events. There will be staff that will monitor and enforce this policy. The staff member will approach the individual and ask them to remove the outside food and/or alcoholic beverage. The Resort will provide food and beverage options for attendees and guests to purchase.
URL:https://thatsentertainmentpa.com/event/lancaster-pa-3/
LOCATION:Wyndham Resort & Convention Center\, 2300 Lincoln Highway East\, Lancaster\, Pennsylvania\, 17602\, United States
CATEGORIES:2027 Events
END:VEVENT
BEGIN:VEVENT
DTSTART;TZID=America/New_York:20270320T000000
DTEND;TZID=America/New_York:20270321T235959
DTSTAMP:20260421T015526
CREATED:20260213T091706Z
LAST-MODIFIED:20260213T091710Z
UID:8687-1805500800-1805673599@thatsentertainmentpa.com
SUMMARY:Albany\, NY
DESCRIPTION:VENUE\n\n\n\n\n\nHOTEL TBA\n\n\n\nRoom Rates:  \n\n\n\nOnline Reservation Link:  \n\n\n\nCut-Off Date:  \n\n\n\nCancellation Policy: 
URL:https://thatsentertainmentpa.com/event/albany-ny-2/
LOCATION:TBA
CATEGORIES:2027 Events
END:VEVENT
BEGIN:VEVENT
DTSTART;TZID=America/New_York:20270403T000000
DTEND;TZID=America/New_York:20270404T235959
DTSTAMP:20260421T015526
CREATED:20260213T091809Z
LAST-MODIFIED:20260408T161249Z
UID:8689-1806710400-1806883199@thatsentertainmentpa.com
SUMMARY:North Berwick\, ME
DESCRIPTION:VENUE\n\n\n\n\n\nHOTEL\n\n\n\nHampton Inn Dover9 Hotel DriveDover\, NH\, 03820 \n\n\n\nRoom Rates: TBA \n\n\n\nOnline Reservation Link: TBA \n\n\n\nCut-Off Date: TBA \n\n\n\nCancellation Policy: 48 hrs prior to arrival
URL:https://thatsentertainmentpa.com/event/north-berwick-me-2/
LOCATION:Noble High School\, 100 Noble Way\, North Berwick\, Maine\, 03906\, United States
CATEGORIES:2027 Events
END:VEVENT
BEGIN:VEVENT
DTSTART;TZID=America/New_York:20270410T000000
DTEND;TZID=America/New_York:20270411T235959
DTSTAMP:20260421T015526
CREATED:20260213T091912Z
LAST-MODIFIED:20260213T091916Z
UID:8691-1807315200-1807487999@thatsentertainmentpa.com
SUMMARY:Dayton/Cincinnati\, OH
DESCRIPTION:VENUE\n\n\n\n\n\nHOTEL TBA\n\n\n\nRoom Rates:  \n\n\n\nOnline Reservation Link:  \n\n\n\nCut-Off Date:  \n\n\n\nCancellation Policy: 
URL:https://thatsentertainmentpa.com/event/dayton-cincinnati-oh/
LOCATION:TBA
CATEGORIES:2027 Events
END:VEVENT
BEGIN:VEVENT
DTSTART;TZID=America/New_York:20270417T000000
DTEND;TZID=America/New_York:20270418T235959
DTSTAMP:20260421T015526
CREATED:20260213T092021Z
LAST-MODIFIED:20260213T092026Z
UID:8693-1807920000-1808092799@thatsentertainmentpa.com
SUMMARY:Tampa\, FL
DESCRIPTION:VENUE\n\n\n\n\n\nHOTEL TBA\n\n\n\nRoom Rates:  \n\n\n\nOnline Reservation Link:  \n\n\n\nCut-Off Date:  \n\n\n\nCancellation Policy: 
URL:https://thatsentertainmentpa.com/event/tampa-fl-3/
LOCATION:TBA
CATEGORIES:2027 Events
END:VEVENT
BEGIN:VEVENT
DTSTART;TZID=America/New_York:20270424T000000
DTEND;TZID=America/New_York:20270425T235959
DTSTAMP:20260421T015526
CREATED:20260213T092308Z
LAST-MODIFIED:20260408T161741Z
UID:8699-1808524800-1808697599@thatsentertainmentpa.com
SUMMARY:Windsor\, CT
DESCRIPTION:VENUE/HOTEL\n\n\n\n\n\nRoom Rates: TBA \n\n\n\nOnline Reservation Link: TBA \n\n\n\nCut-Off Date: TBA \n\n\n\nCancellation Policy: Cancellations must be received 48 hours prior to scheduled arrival time
URL:https://thatsentertainmentpa.com/event/windsor-ct-3/
LOCATION:Marriott Hotel\, 28 Day Hill Road\, Windsor\, Connecticut\, 06095\, United States
CATEGORIES:2027 Events
END:VEVENT
BEGIN:VEVENT
DTSTART;TZID=America/New_York:20270501T000000
DTEND;TZID=America/New_York:20270502T235959
DTSTAMP:20260421T015526
CREATED:20260213T092422Z
LAST-MODIFIED:20260213T092427Z
UID:8701-1809129600-1809302399@thatsentertainmentpa.com
SUMMARY:Indianapolis\, IN
DESCRIPTION:VENUE\n\n\n\n\n\nHOTEL TBA\n\n\n\nRoom Rates:  \n\n\n\nOnline Reservation Link:  \n\n\n\nCut-Off Date:  \n\n\n\nCancellation Policy: 
URL:https://thatsentertainmentpa.com/event/indianapolis-in-3/
LOCATION:TBA
CATEGORIES:2027 Events
END:VEVENT
BEGIN:VEVENT
DTSTART;TZID=America/New_York:20270501T000000
DTEND;TZID=America/New_York:20270502T235959
DTSTAMP:20260421T015526
CREATED:20260213T103530Z
LAST-MODIFIED:20260304T144843Z
UID:8705-1809129600-1809302399@thatsentertainmentpa.com
SUMMARY:Providence\, RI
DESCRIPTION:VENUE\n\n\n\n\n\nHOTEL \n\n\n\nRoom Rates: \n\n\n\nOnline Reservation Link:  \n\n\n\nCut-Off Date:  \n\n\n\nCancellation Policy: 
URL:https://thatsentertainmentpa.com/event/providence-ri/
LOCATION:TBA
CATEGORIES:2027 Events
END:VEVENT
BEGIN:VEVENT
DTSTART;TZID=America/New_York:20270508T000000
DTEND;TZID=America/New_York:20270509T235959
DTSTAMP:20260421T015526
CREATED:20260213T094407Z
LAST-MODIFIED:20260408T162012Z
UID:8703-1809734400-1809907199@thatsentertainmentpa.com
SUMMARY:Syracuse\, NY
DESCRIPTION:VENUE\n\n\n\n\n\nHOTEL TBA\n\n\n\nRoom Rates:  \n\n\n\nOnline Reservation Link:  \n\n\n\nCut-Off Date:  \n\n\n\nCancellation Policy: 
URL:https://thatsentertainmentpa.com/event/syracuse-ny-3/
LOCATION:The Palace Theater\, 2384 James St\, Syracuse\, New York\, 13206\, United States
CATEGORIES:2027 Events
END:VEVENT
BEGIN:VEVENT
DTSTART;TZID=America/New_York:20270508T000000
DTEND;TZID=America/New_York:20270509T235959
DTSTAMP:20260421T015526
CREATED:20260213T103620Z
LAST-MODIFIED:20260408T182707Z
UID:8707-1809734400-1809907199@thatsentertainmentpa.com
SUMMARY:Belding\, MI
DESCRIPTION:VENUE\n\n\n\n\n\nHOTEL\n\n\n\nAmericlnn by Wyndham Greenville2525 W Washington StreetGreenville\, MI\, 48838 \n\n\n\nRoom Rates: TBA \n\n\n\nOnline Reservation Link: TBA \n\n\n\nCut-Off Date: TBA \n\n\n\nCancellation Policy: 48hrs prior to arrival
URL:https://thatsentertainmentpa.com/event/belding-mi-3/
LOCATION:Belding High School\, 850 Hall Street\, Belding\, Michigan\, 48809\, United States
CATEGORIES:2027 Events
END:VEVENT
BEGIN:VEVENT
DTSTART;TZID=America/New_York:20270515T000000
DTEND;TZID=America/New_York:20270516T235959
DTSTAMP:20260421T015526
CREATED:20260213T103750Z
LAST-MODIFIED:20260408T182911Z
UID:8709-1810339200-1810511999@thatsentertainmentpa.com
SUMMARY:West Milford\, NJ
DESCRIPTION:VENUE\n\n\n\n\n\nHOTEL TBA\n\n\n\nRoom Rates:  \n\n\n\nOnline Reservation Link:  \n\n\n\nCut-Off Date:  \n\n\n\nCancellation Policy: 
URL:https://thatsentertainmentpa.com/event/west-milford-nj-3/
LOCATION:West Milford Township High School\, 67 Highlander Drive\, West Milford\, New Jersey\, 07480\, United States
CATEGORIES:2027 Events
END:VEVENT
BEGIN:VEVENT
DTSTART;TZID=America/New_York:20270515T000000
DTEND;TZID=America/New_York:20270516T235959
DTSTAMP:20260421T015526
CREATED:20260213T103926Z
LAST-MODIFIED:20260213T103931Z
UID:8711-1810339200-1810511999@thatsentertainmentpa.com
SUMMARY:Pittsburgh\, PA
DESCRIPTION:VENUE\n\n\n\n\n\nHOTEL TBA\n\n\n\nRoom Rates:  \n\n\n\nOnline Reservation Link:  \n\n\n\nCut-Off Date:  \n\n\n\nCancellation Policy: 
URL:https://thatsentertainmentpa.com/event/pittsburgh-pa-3/
LOCATION:TBA
CATEGORIES:2027 Events
END:VEVENT
BEGIN:VEVENT
DTSTART;TZID=America/New_York:20270516T000000
DTEND;TZID=America/New_York:20270516T235959
DTSTAMP:20260421T015526
CREATED:20260213T104108Z
LAST-MODIFIED:20260213T104113Z
UID:8713-1810425600-1810511999@thatsentertainmentpa.com
SUMMARY:Virtual PAC & Virtual Acro
DESCRIPTION:
URL:https://thatsentertainmentpa.com/event/virtual-pac-virtual-acro/
LOCATION:New Jersey
CATEGORIES:2027 Events
END:VEVENT
BEGIN:VEVENT
DTSTART;TZID=America/New_York:20270522T000000
DTEND;TZID=America/New_York:20270523T235959
DTSTAMP:20260421T015526
CREATED:20260213T104230Z
LAST-MODIFIED:20260408T184445Z
UID:8716-1810944000-1811116799@thatsentertainmentpa.com
SUMMARY:Breinigsville\, PA
DESCRIPTION:VENUE\n\n\n\n\n\nHOTEL\n\n\n\nDelta Hotel by Marriott7736 Adrienne DriveBreinigsville\, PA\, 18031 \n\n\n\nRoom Rates: TBA \n\n\n\nOnline Reservation Link: TBA \n\n\n\nCut-Off Date: TBA \n\n\n\nCancellation Policy: TBA
URL:https://thatsentertainmentpa.com/event/breinigsville-pa-3/
LOCATION:Center 100 Hotel\, 7736 Adrienne Drive\, Breinigsville\, Pennsylvania\, 18031\, United States
CATEGORIES:2027 Events
END:VEVENT
BEGIN:VEVENT
DTSTART;TZID=America/New_York:20270617T000000
DTEND;TZID=America/New_York:20270620T235959
DTSTAMP:20260421T015526
CREATED:20260213T104332Z
LAST-MODIFIED:20260408T184005Z
UID:8719-1813190400-1813535999@thatsentertainmentpa.com
SUMMARY:Sandusky\, OH Nationals
DESCRIPTION:VENUE\n\n\n\n\n\nHOTEL\n\n\n\nRed Roof Inn1363 West McPherson HwyClyde\, OH\, 43410 \n\n\n\nRoom Rates: TBA \n\n\n\nOnline Reservation Link: TBA \n\n\n\nCut-Off Date: TBA \n\n\n\nCancellation Policy: TBA
URL:https://thatsentertainmentpa.com/event/sandusky-oh-nationals/
LOCATION:Clyde High School\, 1015 Race St\, Clyde\, Ohio\, 43410\, United States
CATEGORIES:2027 Events
END:VEVENT
BEGIN:VEVENT
DTSTART;TZID=America/New_York:20270718T000000
DTEND;TZID=America/New_York:20270722T235959
DTSTAMP:20260421T015526
CREATED:20260213T104438Z
LAST-MODIFIED:20260408T184619Z
UID:8721-1815868800-1816300799@thatsentertainmentpa.com
SUMMARY:Atlantic City\, NJ Nationals
DESCRIPTION:VENUE\n\n\n\n\n\nRoom Rates: TBA \n\n\n\nOnline Reservation Link: TBA \n\n\n\nCut-Off Date: TBA \n\n\n\nCancellation Policy: TBA
URL:https://thatsentertainmentpa.com/event/atlantic-city-nj-nationals/
LOCATION:Bally’s Atlantic City\, 1900 Pacific Ave\, Atlantic City\, New Jersey\, 08401\, United States
CATEGORIES:2027 Events
END:VEVENT
END:VCALENDAR