BEGIN:VCALENDAR
VERSION:2.0
PRODID:-//That&#039;s Entertainment Performing Arts - National Dance Competitions - ECPv6.15.13.1//NONSGML v1.0//EN
CALSCALE:GREGORIAN
METHOD:PUBLISH
X-ORIGINAL-URL:https://thatsentertainmentpa.com
X-WR-CALDESC:Events for That&#039;s Entertainment Performing Arts - National Dance Competitions
REFRESH-INTERVAL;VALUE=DURATION:PT1H
X-Robots-Tag:noindex
X-PUBLISHED-TTL:PT1H
BEGIN:VTIMEZONE
TZID:America/New_York
BEGIN:DAYLIGHT
TZOFFSETFROM:-0500
TZOFFSETTO:-0400
TZNAME:EDT
DTSTART:20240310T070000
END:DAYLIGHT
BEGIN:STANDARD
TZOFFSETFROM:-0400
TZOFFSETTO:-0500
TZNAME:EST
DTSTART:20241103T060000
END:STANDARD
BEGIN:DAYLIGHT
TZOFFSETFROM:-0500
TZOFFSETTO:-0400
TZNAME:EDT
DTSTART:20250309T070000
END:DAYLIGHT
BEGIN:STANDARD
TZOFFSETFROM:-0400
TZOFFSETTO:-0500
TZNAME:EST
DTSTART:20251102T060000
END:STANDARD
BEGIN:DAYLIGHT
TZOFFSETFROM:-0500
TZOFFSETTO:-0400
TZNAME:EDT
DTSTART:20260308T070000
END:DAYLIGHT
BEGIN:STANDARD
TZOFFSETFROM:-0400
TZOFFSETTO:-0500
TZNAME:EST
DTSTART:20261101T060000
END:STANDARD
END:VTIMEZONE
BEGIN:VEVENT
DTSTART;TZID=America/New_York:20250517T000000
DTEND;TZID=America/New_York:20250518T235959
DTSTAMP:20260420T191449
CREATED:20240823T001708Z
LAST-MODIFIED:20250128T142722Z
UID:6517-1747440000-1747612799@thatsentertainmentpa.com
SUMMARY:West Milford\, NJ
DESCRIPTION:HOTEL\n\n\n\nFairfield Inn Rockaway14 Green Pond RdRockaway\, NJ 07866 \n\n\n\nRoom Rates: $169 Plus taxes and fees \n\n\n\nOnline Reservation Link: Click Here \n\n\n\nCut-Off Date: April 16\, 2025 \n\n\n\nCancellation Policy: 48 hrs prior to arrival
URL:https://thatsentertainmentpa.com/event/west-milford-nj/
LOCATION:West Milford Township High School\, 67 Highlander Drive\, West Milford\, New Jersey\, 07480\, United States
CATEGORIES:2025 Events
END:VEVENT
BEGIN:VEVENT
DTSTART;TZID=America/New_York:20250517T000000
DTEND;TZID=America/New_York:20250518T235959
DTSTAMP:20260420T191449
CREATED:20240823T001834Z
LAST-MODIFIED:20250128T142714Z
UID:6521-1747440000-1747612799@thatsentertainmentpa.com
SUMMARY:Pittsburgh\, PA
DESCRIPTION:HOTEL\n\n\n\nComfort Inn &amp; Suites Pittsburgh180 Gamma DrivePittsburgh\, PA\, 15238 \n\n\n\nRoom Rates: $104 Plus taxes and fees \n\n\n\nOnline Reservation Link: Click Here \n\n\n\nCut-Off Date: 4/16/25 \n\n\n\nCancellation Policy: 24hrs prior to arrival
URL:https://thatsentertainmentpa.com/event/pittsburgh-pa/
LOCATION:New Kensington Jr Sr Valley High School\, 703 Stevenson Blvd\, New Kensington\, Pennsylvania\, 15068\, United States
CATEGORIES:2025 Events
END:VEVENT
END:VCALENDAR