BEGIN:VCALENDAR
VERSION:2.0
PRODID:-//That&#039;s Entertainment Performing Arts - National Dance Competitions - ECPv6.15.13.1//NONSGML v1.0//EN
CALSCALE:GREGORIAN
METHOD:PUBLISH
X-WR-CALNAME:That&#039;s Entertainment Performing Arts - National Dance Competitions
X-ORIGINAL-URL:https://thatsentertainmentpa.com
X-WR-CALDESC:Events for That&#039;s Entertainment Performing Arts - National Dance Competitions
REFRESH-INTERVAL;VALUE=DURATION:PT1H
X-Robots-Tag:noindex
X-PUBLISHED-TTL:PT1H
BEGIN:VTIMEZONE
TZID:America/New_York
BEGIN:DAYLIGHT
TZOFFSETFROM:-0500
TZOFFSETTO:-0400
TZNAME:EDT
DTSTART:20240310T070000
END:DAYLIGHT
BEGIN:STANDARD
TZOFFSETFROM:-0400
TZOFFSETTO:-0500
TZNAME:EST
DTSTART:20241103T060000
END:STANDARD
BEGIN:DAYLIGHT
TZOFFSETFROM:-0500
TZOFFSETTO:-0400
TZNAME:EDT
DTSTART:20250309T070000
END:DAYLIGHT
BEGIN:STANDARD
TZOFFSETFROM:-0400
TZOFFSETTO:-0500
TZNAME:EST
DTSTART:20251102T060000
END:STANDARD
BEGIN:DAYLIGHT
TZOFFSETFROM:-0500
TZOFFSETTO:-0400
TZNAME:EDT
DTSTART:20260308T070000
END:DAYLIGHT
BEGIN:STANDARD
TZOFFSETFROM:-0400
TZOFFSETTO:-0500
TZNAME:EST
DTSTART:20261101T060000
END:STANDARD
END:VTIMEZONE
BEGIN:VEVENT
DTSTART;TZID=America/New_York:20250426T000000
DTEND;TZID=America/New_York:20250427T235959
DTSTAMP:20260420T222041
CREATED:20240823T000515Z
LAST-MODIFIED:20250131T190425Z
UID:6497-1745625600-1745798399@thatsentertainmentpa.com
SUMMARY:Altoona\, PA
DESCRIPTION:HOTEL\n\n\n\nDays Inn & Suites458 Sabbath Rest RoadAltoona\, PA\, 16601 \n\n\n\nRoom Rates: $139 plus taxes and fees \n\n\n\nPhone Reservation: 814-944-4499 \n\n\n\nCut-Off Date: 4/1/25 \n\n\n\nCancellation Policy: 24hrs prior to arrival
URL:https://thatsentertainmentpa.com/event/altoona-pa/
LOCATION:Jaffa Shriners\, 2200 Broad Avenue\, Altoona\, Pennsylvania\, 11601\, United States
CATEGORIES:2025 Events
END:VEVENT
BEGIN:VEVENT
DTSTART;TZID=America/New_York:20250426T000000
DTEND;TZID=America/New_York:20250427T235959
DTSTAMP:20260420T222041
CREATED:20240823T000734Z
LAST-MODIFIED:20250425T163501Z
UID:6501-1745625600-1745798399@thatsentertainmentpa.com
SUMMARY:Dayton\, OH
DESCRIPTION:HOTEL\n\n\n\nHoliday Inn Express & Suites5610 Merily WayHuber Heights\, OH\, 45424 \n\n\n\nRoom Rates: $139 Plus taxes and fees \n\n\n\nOnline Reservation Link: CLICK HERE \n\n\n\nPhone Reservation: 937-235-2000 \n\n\n\nCut-Off Date: April 3\, 2025 \n\n\n\nCancellation Policy: 24 hrs prior to arrival
URL:https://thatsentertainmentpa.com/event/dayton-oh/
LOCATION:Northmont High School\, 4916 Nationals Road\, Dayton\, Ohio\, 45315\, United States
CATEGORIES:2025 Events
END:VEVENT
END:VCALENDAR