BEGIN:VCALENDAR
VERSION:2.0
PRODID:-//That&#039;s Entertainment Performing Arts - National Dance Competitions - ECPv6.15.13.1//NONSGML v1.0//EN
CALSCALE:GREGORIAN
METHOD:PUBLISH
X-WR-CALNAME:That&#039;s Entertainment Performing Arts - National Dance Competitions
X-ORIGINAL-URL:https://thatsentertainmentpa.com
X-WR-CALDESC:Events for That&#039;s Entertainment Performing Arts - National Dance Competitions
REFRESH-INTERVAL;VALUE=DURATION:PT1H
X-Robots-Tag:noindex
X-PUBLISHED-TTL:PT1H
BEGIN:VTIMEZONE
TZID:America/New_York
BEGIN:DAYLIGHT
TZOFFSETFROM:-0500
TZOFFSETTO:-0400
TZNAME:EDT
DTSTART:20240310T070000
END:DAYLIGHT
BEGIN:STANDARD
TZOFFSETFROM:-0400
TZOFFSETTO:-0500
TZNAME:EST
DTSTART:20241103T060000
END:STANDARD
BEGIN:DAYLIGHT
TZOFFSETFROM:-0500
TZOFFSETTO:-0400
TZNAME:EDT
DTSTART:20250309T070000
END:DAYLIGHT
BEGIN:STANDARD
TZOFFSETFROM:-0400
TZOFFSETTO:-0500
TZNAME:EST
DTSTART:20251102T060000
END:STANDARD
BEGIN:DAYLIGHT
TZOFFSETFROM:-0500
TZOFFSETTO:-0400
TZNAME:EDT
DTSTART:20260308T070000
END:DAYLIGHT
BEGIN:STANDARD
TZOFFSETFROM:-0400
TZOFFSETTO:-0500
TZNAME:EST
DTSTART:20261101T060000
END:STANDARD
END:VTIMEZONE
BEGIN:VEVENT
DTSTART;TZID=America/New_York:20250412T000000
DTEND;TZID=America/New_York:20250413T235959
DTSTAMP:20260420T222105
CREATED:20240823T000215Z
LAST-MODIFIED:20250128T142823Z
UID:6493-1744416000-1744588799@thatsentertainmentpa.com
SUMMARY:Windsor\, CT
DESCRIPTION:VENUE & HOTEL\n\n\n\nMarriott Hotel (Ballroom)28 Day Hill RoadWindsor\, CT\, 06095 \n\n\n\nRoom Rates: $159 + taxes and fees  \n\n\n\nOnline Reservation Link: Book your group rate for That’s Entertainment APRIL2025 \n\n\n\nCut-Off Date: March 14\, 2025 \n\n\n\nCancellation Policy: Cancellations must be received 48 hours prior to scheduled arrival time
URL:https://thatsentertainmentpa.com/event/windsor-ct/
LOCATION:Marriott Hotel\, 28 Day Hill Road\, Windsor\, Connecticut\, 06095\, United States
CATEGORIES:2025 Events
END:VEVENT
BEGIN:VEVENT
DTSTART;TZID=America/New_York:20250412T000000
DTEND;TZID=America/New_York:20250413T235959
DTSTAMP:20260420T222105
CREATED:20240903T190352Z
LAST-MODIFIED:20250128T142814Z
UID:6598-1744416000-1744588799@thatsentertainmentpa.com
SUMMARY:Sacramento\, CA (New Dates)
DESCRIPTION:HOTEL \n\n\n\nTBA
URL:https://thatsentertainmentpa.com/event/sacramento-ca/
LOCATION:VENUE TBA
CATEGORIES:2025 Events
END:VEVENT
END:VCALENDAR