BEGIN:VCALENDAR
VERSION:2.0
PRODID:-//That&#039;s Entertainment Performing Arts - National Dance Competitions - ECPv6.15.13.1//NONSGML v1.0//EN
CALSCALE:GREGORIAN
METHOD:PUBLISH
X-WR-CALNAME:That&#039;s Entertainment Performing Arts - National Dance Competitions
X-ORIGINAL-URL:https://thatsentertainmentpa.com
X-WR-CALDESC:Events for That&#039;s Entertainment Performing Arts - National Dance Competitions
REFRESH-INTERVAL;VALUE=DURATION:PT1H
X-Robots-Tag:noindex
X-PUBLISHED-TTL:PT1H
BEGIN:VTIMEZONE
TZID:America/New_York
BEGIN:DAYLIGHT
TZOFFSETFROM:-0500
TZOFFSETTO:-0400
TZNAME:EDT
DTSTART:20240310T070000
END:DAYLIGHT
BEGIN:STANDARD
TZOFFSETFROM:-0400
TZOFFSETTO:-0500
TZNAME:EST
DTSTART:20241103T060000
END:STANDARD
BEGIN:DAYLIGHT
TZOFFSETFROM:-0500
TZOFFSETTO:-0400
TZNAME:EDT
DTSTART:20250309T070000
END:DAYLIGHT
BEGIN:STANDARD
TZOFFSETFROM:-0400
TZOFFSETTO:-0500
TZNAME:EST
DTSTART:20251102T060000
END:STANDARD
BEGIN:DAYLIGHT
TZOFFSETFROM:-0500
TZOFFSETTO:-0400
TZNAME:EDT
DTSTART:20260308T070000
END:DAYLIGHT
BEGIN:STANDARD
TZOFFSETFROM:-0400
TZOFFSETTO:-0500
TZNAME:EST
DTSTART:20261101T060000
END:STANDARD
END:VTIMEZONE
BEGIN:VEVENT
DTSTART;TZID=America/New_York:20250322T000000
DTEND;TZID=America/New_York:20250323T235959
DTSTAMP:20260421T013205
CREATED:20240821T193218Z
LAST-MODIFIED:20250128T143021Z
UID:6469-1742601600-1742774399@thatsentertainmentpa.com
SUMMARY:Oswego\, IL
DESCRIPTION:HOTEL\n\n\n\nBest Western Oswego Hotel2055 Wiesbrook DriveOswego\, MI\, 60543 \n\n\n\nRoom Rates: $134 Plus taxes and fees \n\n\n\nOnline Reservation Link: Click Here \n\n\n\nPhone Reservation: 630-844-4700 (Request That’s Entertainment Block) \n\n\n\nCut-Off Date: December\, 20\, 2024 \n\n\n\nCancellation Policy: 24 hrs prior to arrival
URL:https://thatsentertainmentpa.com/event/oswego-il/
LOCATION:Oswego High School\, 4250 IL-71\, Oswego\, Illinois\, 60543\, United States
CATEGORIES:2025 Events
END:VEVENT
BEGIN:VEVENT
DTSTART;TZID=America/New_York:20250322T000000
DTEND;TZID=America/New_York:20250323T235959
DTSTAMP:20260421T013205
CREATED:20240821T194031Z
LAST-MODIFIED:20250128T143027Z
UID:6475-1742601600-1742774399@thatsentertainmentpa.com
SUMMARY:Duluth\, GA
DESCRIPTION:HOTEL\n\n\n\nResidence Inn-Atlanta Duluth/Gwinnett Place1760 Pineland RoadDuluth\, GA\, 30096 \n\n\n\nRoom Rates: $109 Plus Taxes and Fees \n\n\n\nReservation Link: Click Here \n\n\n\nCut-Off Date: 2/28/2025 \n\n\n\nCancellation Policy: 48hrs prior to arrival
URL:https://thatsentertainmentpa.com/event/duluth-ga/
LOCATION:Meadowcreek High School\, 4455 Steve Reynolds Blvd\, Norcross\, Georgia\, 30093\, United States
CATEGORIES:2025 Events
END:VEVENT
END:VCALENDAR