BEGIN:VCALENDAR
VERSION:2.0
PRODID:-//That&#039;s Entertainment Performing Arts - National Dance Competitions - ECPv6.15.13.1//NONSGML v1.0//EN
CALSCALE:GREGORIAN
METHOD:PUBLISH
X-ORIGINAL-URL:https://thatsentertainmentpa.com
X-WR-CALDESC:Events for That&#039;s Entertainment Performing Arts - National Dance Competitions
REFRESH-INTERVAL;VALUE=DURATION:PT1H
X-Robots-Tag:noindex
X-PUBLISHED-TTL:PT1H
BEGIN:VTIMEZONE
TZID:America/New_York
BEGIN:DAYLIGHT
TZOFFSETFROM:-0500
TZOFFSETTO:-0400
TZNAME:EDT
DTSTART:20240310T070000
END:DAYLIGHT
BEGIN:STANDARD
TZOFFSETFROM:-0400
TZOFFSETTO:-0500
TZNAME:EST
DTSTART:20241103T060000
END:STANDARD
BEGIN:DAYLIGHT
TZOFFSETFROM:-0500
TZOFFSETTO:-0400
TZNAME:EDT
DTSTART:20250309T070000
END:DAYLIGHT
BEGIN:STANDARD
TZOFFSETFROM:-0400
TZOFFSETTO:-0500
TZNAME:EST
DTSTART:20251102T060000
END:STANDARD
BEGIN:DAYLIGHT
TZOFFSETFROM:-0500
TZOFFSETTO:-0400
TZNAME:EDT
DTSTART:20260308T070000
END:DAYLIGHT
BEGIN:STANDARD
TZOFFSETFROM:-0400
TZOFFSETTO:-0500
TZNAME:EST
DTSTART:20261101T060000
END:STANDARD
END:VTIMEZONE
BEGIN:VEVENT
DTSTART;TZID=America/New_York:20250315T000000
DTEND;TZID=America/New_York:20250316T235959
DTSTAMP:20260421T014415
CREATED:20240821T192544Z
LAST-MODIFIED:20250128T143010Z
UID:6461-1741996800-1742169599@thatsentertainmentpa.com
SUMMARY:Lancaster\, PA
DESCRIPTION:VENUE & HOTEL\n\n\n\nWyndham Resort & Convention Center (Stage Venue)2300 Lincoln Highway EastLancaster\, PA\, 17602 \n\n\n\nRoom Rates: Standard/Single/Double $179Triple/Quad $189Balcony Room Single/Double $199Balcony Room Triple/Quad $209 \n\n\n\nOnline Reservation Link: That’s Entertainment 2025 \n\n\n\nGroup Code: 031425THA \n\n\n\nCut-Off Date: 2/11/25 \n\n\n\nCancellation Policy: All no shows and individual roomcancellations received within 48 hours of scheduled arrival will be billed at contracted room rate for 1 night \n\n\n\nAttendees not staying at the Resort are prohibited to use complimentary amenities & facilities such as pool or gym.
URL:https://thatsentertainmentpa.com/event/lancaster-pa/
LOCATION:Wyndham Resort & Convention Center\, 2300 Lincoln Highway East\, Lancaster\, Pennsylvania\, 17602\, United States
CATEGORIES:2025 Events
END:VEVENT
BEGIN:VEVENT
DTSTART;TZID=America/New_York:20250315T000000
DTEND;TZID=America/New_York:20250316T235959
DTSTAMP:20260421T014415
CREATED:20240821T193642Z
LAST-MODIFIED:20250128T143016Z
UID:6473-1741996800-1742169599@thatsentertainmentpa.com
SUMMARY:Boca Raton\, FL
DESCRIPTION:HOTEL\n\n\n\nHoliday Inn North Boca Raton701 NW 53rd StreetBoca Raton\, FL\, 33487 \n\n\n\nRoom Rates: $149 Plus taxes and fees \n\n\n\nOnline Reservation Link: Click Here \n\n\n\nCut-Off Date:  2/20/2025 \n\n\n\nCancellation Policy: 48 hrs prior to arrival
URL:https://thatsentertainmentpa.com/event/boca-raton-fl/
LOCATION:Olympic Heights High School\, 20101 Lyons Road\, Boca Raton\, Florida\, 33434\, United States
CATEGORIES:2025 Events
END:VEVENT
END:VCALENDAR