BEGIN:VCALENDAR
VERSION:2.0
PRODID:-//That&#039;s Entertainment Performing Arts - National Dance Competitions - ECPv6.15.13.1//NONSGML v1.0//EN
CALSCALE:GREGORIAN
METHOD:PUBLISH
X-ORIGINAL-URL:https://thatsentertainmentpa.com
X-WR-CALDESC:Events for That&#039;s Entertainment Performing Arts - National Dance Competitions
REFRESH-INTERVAL;VALUE=DURATION:PT1H
X-Robots-Tag:noindex
X-PUBLISHED-TTL:PT1H
BEGIN:VTIMEZONE
TZID:America/New_York
BEGIN:DAYLIGHT
TZOFFSETFROM:-0500
TZOFFSETTO:-0400
TZNAME:EDT
DTSTART:20240310T070000
END:DAYLIGHT
BEGIN:STANDARD
TZOFFSETFROM:-0400
TZOFFSETTO:-0500
TZNAME:EST
DTSTART:20241103T060000
END:STANDARD
BEGIN:DAYLIGHT
TZOFFSETFROM:-0500
TZOFFSETTO:-0400
TZNAME:EDT
DTSTART:20250309T070000
END:DAYLIGHT
BEGIN:STANDARD
TZOFFSETFROM:-0400
TZOFFSETTO:-0500
TZNAME:EST
DTSTART:20251102T060000
END:STANDARD
BEGIN:DAYLIGHT
TZOFFSETFROM:-0500
TZOFFSETTO:-0400
TZNAME:EDT
DTSTART:20260308T070000
END:DAYLIGHT
BEGIN:STANDARD
TZOFFSETFROM:-0400
TZOFFSETTO:-0500
TZNAME:EST
DTSTART:20261101T060000
END:STANDARD
END:VTIMEZONE
BEGIN:VEVENT
DTSTART;TZID=America/New_York:20250301T000000
DTEND;TZID=America/New_York:20250302T235959
DTSTAMP:20260421T013724
CREATED:20240821T190837Z
LAST-MODIFIED:20250128T142950Z
UID:6452-1740787200-1740959999@thatsentertainmentpa.com
SUMMARY:Queens\, NY
DESCRIPTION:HOTEL\n\n\n\nBest Western22033 Northern BlvdBayside\, NY\, 11361 \n\n\n\nRoom Rates: $175 Friday & Saturday Plus taxes and fees \n\n\n\nOnline Reservation Link: Click Here \n\n\n\nCut-Off Date: January 28\, 2025 \n\n\n\nCancellation Policy: 24 hrs prior to arrival
URL:https://thatsentertainmentpa.com/event/queens-ny/
LOCATION:St. Francis Prep High School\, 6100 Francis Lewis Blvd.\, Fresh Meadows\, New York\, 11365\, United States
CATEGORIES:2025 Events
END:VEVENT
BEGIN:VEVENT
DTSTART;TZID=America/New_York:20250301T000000
DTEND;TZID=America/New_York:20250302T235959
DTSTAMP:20260421T013724
CREATED:20240903T185911Z
LAST-MODIFIED:20250128T142955Z
UID:6592-1740787200-1740959999@thatsentertainmentpa.com
SUMMARY:Gloversville\, NY (New Dates)
DESCRIPTION:HOTEL \n\n\n\nMicrotel Inn & Suites136 N. Comrie Ave.Johnstown\, NY\, 12095 \n\n\n\nRoom Rates: $129 Plus taxes and fees \n\n\n\nPhone Reservations Only: 518-762-5425 For TE pricing must ask for the That’s Entertainment Room Block \n\n\n\nCut-Off Date: February 1\, 2025 \n\n\n\nCancellation Policy: 24 hrs prior to arrival
URL:https://thatsentertainmentpa.com/event/averill-park-ny/
LOCATION:Gloversville Middle School\, 234 Lincoln Street\, gloversville\, New York\, 12078\, United States
CATEGORIES:2025 Events
END:VEVENT
END:VCALENDAR