BEGIN:VCALENDAR
VERSION:2.0
PRODID:-//That&#039;s Entertainment Performing Arts - National Dance Competitions - ECPv6.15.13.1//NONSGML v1.0//EN
CALSCALE:GREGORIAN
METHOD:PUBLISH
X-ORIGINAL-URL:https://thatsentertainmentpa.com
X-WR-CALDESC:Events for That&#039;s Entertainment Performing Arts - National Dance Competitions
REFRESH-INTERVAL;VALUE=DURATION:PT1H
X-Robots-Tag:noindex
X-PUBLISHED-TTL:PT1H
BEGIN:VTIMEZONE
TZID:America/New_York
BEGIN:DAYLIGHT
TZOFFSETFROM:-0500
TZOFFSETTO:-0400
TZNAME:EDT
DTSTART:20240310T070000
END:DAYLIGHT
BEGIN:STANDARD
TZOFFSETFROM:-0400
TZOFFSETTO:-0500
TZNAME:EST
DTSTART:20241103T060000
END:STANDARD
BEGIN:DAYLIGHT
TZOFFSETFROM:-0500
TZOFFSETTO:-0400
TZNAME:EDT
DTSTART:20250309T070000
END:DAYLIGHT
BEGIN:STANDARD
TZOFFSETFROM:-0400
TZOFFSETTO:-0500
TZNAME:EST
DTSTART:20251102T060000
END:STANDARD
BEGIN:DAYLIGHT
TZOFFSETFROM:-0500
TZOFFSETTO:-0400
TZNAME:EDT
DTSTART:20260308T070000
END:DAYLIGHT
BEGIN:STANDARD
TZOFFSETFROM:-0400
TZOFFSETTO:-0500
TZNAME:EST
DTSTART:20261101T060000
END:STANDARD
END:VTIMEZONE
BEGIN:VEVENT
DTSTART;TZID=America/New_York:20250222T000000
DTEND;TZID=America/New_York:20250223T235959
DTSTAMP:20260421T014447
CREATED:20240820T201217Z
LAST-MODIFIED:20250128T142939Z
UID:6442-1740182400-1740355199@thatsentertainmentpa.com
SUMMARY:Lodi\, NJ
DESCRIPTION:HOTEL\n\n\n\nHilton Hasbrouck Heights/Meadowlands650 Terrace AvenueHasbrouck Heights\, NJ 07604 \n\n\n\nRoom Rates: $159 Plus taxes and fees \n\n\n\nOnline Reservation Link: Click Here \n\n\n\nCut-Off Date: January 20\, 2025 \n\n\n\nCancellation Policy: 24 hrs prior to arrival
URL:https://thatsentertainmentpa.com/event/lodi-nj/
LOCATION:Felician University: Lodi Campus Building: Albin Obal Hall\, 262 South Main Street\, Lodi\, New Jersey\, 07644\, United States
CATEGORIES:2025 Events
END:VEVENT
BEGIN:VEVENT
DTSTART;TZID=America/New_York:20250222T000000
DTEND;TZID=America/New_York:20250223T235959
DTSTAMP:20260421T014447
CREATED:20240820T201807Z
LAST-MODIFIED:20250128T142945Z
UID:6448-1740182400-1740355199@thatsentertainmentpa.com
SUMMARY:Louisburg\, NC
DESCRIPTION:HOTEL\n\n\n\nHampton In Raleigh Town Of Wake Forest \n\n\n\nHampton In Raleigh Town Of Wake Forest12318 Wake Union Church RoadWake Forst\, NC\, 27587 \n\n\n\nRoom Rates: $109 Plus taxes and fees \n\n\n\nOnline Reservation Link: That’s Entertainment-RDUWF \n\n\n\nPhone Reservation: 919-544-0222 \n\n\n\nCut-Off Date: February 7\, 2025 \n\n\n\nCancellation Policy: 24 hrs prior to arrival
URL:https://thatsentertainmentpa.com/event/louisburg-nc/
LOCATION:Louisburg College\, 591 North Main Street\, Louisburg\, North Carolina\, 27549\, United States
CATEGORIES:2025 Events
END:VEVENT
END:VCALENDAR