BEGIN:VCALENDAR
VERSION:2.0
PRODID:-//That&#039;s Entertainment Performing Arts - National Dance Competitions - ECPv6.15.13.1//NONSGML v1.0//EN
CALSCALE:GREGORIAN
METHOD:PUBLISH
X-WR-CALNAME:That&#039;s Entertainment Performing Arts - National Dance Competitions
X-ORIGINAL-URL:https://thatsentertainmentpa.com
X-WR-CALDESC:Events for That&#039;s Entertainment Performing Arts - National Dance Competitions
REFRESH-INTERVAL;VALUE=DURATION:PT1H
X-Robots-Tag:noindex
X-PUBLISHED-TTL:PT1H
BEGIN:VTIMEZONE
TZID:America/New_York
BEGIN:DAYLIGHT
TZOFFSETFROM:-0500
TZOFFSETTO:-0400
TZNAME:EDT
DTSTART:20240310T070000
END:DAYLIGHT
BEGIN:STANDARD
TZOFFSETFROM:-0400
TZOFFSETTO:-0500
TZNAME:EST
DTSTART:20241103T060000
END:STANDARD
BEGIN:DAYLIGHT
TZOFFSETFROM:-0500
TZOFFSETTO:-0400
TZNAME:EDT
DTSTART:20250309T070000
END:DAYLIGHT
BEGIN:STANDARD
TZOFFSETFROM:-0400
TZOFFSETTO:-0500
TZNAME:EST
DTSTART:20251102T060000
END:STANDARD
BEGIN:DAYLIGHT
TZOFFSETFROM:-0500
TZOFFSETTO:-0400
TZNAME:EDT
DTSTART:20260308T070000
END:DAYLIGHT
BEGIN:STANDARD
TZOFFSETFROM:-0400
TZOFFSETTO:-0500
TZNAME:EST
DTSTART:20261101T060000
END:STANDARD
END:VTIMEZONE
BEGIN:VEVENT
DTSTART;TZID=America/New_York:20250215T000000
DTEND;TZID=America/New_York:20250216T235959
DTSTAMP:20260421T030538
CREATED:20240820T200305Z
LAST-MODIFIED:20250128T142934Z
UID:6438-1739577600-1739750399@thatsentertainmentpa.com
SUMMARY:Burbank\, CA
DESCRIPTION:HOTEL\n\n\n\nHotel Burbank150 East Angelo Ave.Burbank\, CA\, 91592 \n\n\n\nRoom Rates: $179 Plus Taxes and Fees \n\n\n\nPhone Reservation: 818-841-4770 \n\n\n\nGroup Code: HBTE24 \n\n\n\nCut-Off Date: 1/15/2025 \n\n\n\nSelf Parking: Maximum rate $22 per day for your guests \n\n\n\nCancellation Policy: 48 hrs prior to arrival
URL:https://thatsentertainmentpa.com/event/burbank-ca/
LOCATION:Dolores Huerta Middle School\, 420 S. Mariposa Street\, Burbank\, California\, 91506\, United States
CATEGORIES:2025 Events
END:VEVENT
END:VCALENDAR