BEGIN:VCALENDAR
VERSION:2.0
PRODID:-//That&#039;s Entertainment Performing Arts - National Dance Competitions - ECPv6.15.13.1//NONSGML v1.0//EN
CALSCALE:GREGORIAN
METHOD:PUBLISH
X-ORIGINAL-URL:https://thatsentertainmentpa.com
X-WR-CALDESC:Events for That&#039;s Entertainment Performing Arts - National Dance Competitions
REFRESH-INTERVAL;VALUE=DURATION:PT1H
X-Robots-Tag:noindex
X-PUBLISHED-TTL:PT1H
BEGIN:VTIMEZONE
TZID:America/New_York
BEGIN:DAYLIGHT
TZOFFSETFROM:-0500
TZOFFSETTO:-0400
TZNAME:EDT
DTSTART:20240310T070000
END:DAYLIGHT
BEGIN:STANDARD
TZOFFSETFROM:-0400
TZOFFSETTO:-0500
TZNAME:EST
DTSTART:20241103T060000
END:STANDARD
BEGIN:DAYLIGHT
TZOFFSETFROM:-0500
TZOFFSETTO:-0400
TZNAME:EDT
DTSTART:20250309T070000
END:DAYLIGHT
BEGIN:STANDARD
TZOFFSETFROM:-0400
TZOFFSETTO:-0500
TZNAME:EST
DTSTART:20251102T060000
END:STANDARD
BEGIN:DAYLIGHT
TZOFFSETFROM:-0500
TZOFFSETTO:-0400
TZNAME:EDT
DTSTART:20260308T070000
END:DAYLIGHT
BEGIN:STANDARD
TZOFFSETFROM:-0400
TZOFFSETTO:-0500
TZNAME:EST
DTSTART:20261101T060000
END:STANDARD
END:VTIMEZONE
BEGIN:VEVENT
DTSTART;TZID=America/New_York:20250201T000000
DTEND;TZID=America/New_York:20250202T235959
DTSTAMP:20260421T072605
CREATED:20240820T195453Z
LAST-MODIFIED:20250128T142917Z
UID:6432-1738368000-1738540799@thatsentertainmentpa.com
SUMMARY:San Mateo/Pineole/San Francisco\, CA
DESCRIPTION:HOTEL TBA
URL:https://thatsentertainmentpa.com/event/san-mateo-pineole-san-francisco-ca/
LOCATION:Terranova High School\, 1450 Terranova Blvd\, Pacifica\, California\, 94044\, United States
CATEGORIES:2025 Events
END:VEVENT
END:VCALENDAR